
BEGIN:VCALENDAR
VERSION:2.0
PRODID:-//Institute for Quantitative and Computational Biosciences - ECPv6.15.20//NONSGML v1.0//EN
CALSCALE:GREGORIAN
METHOD:PUBLISH
X-ORIGINAL-URL:https://qcb.ucla.edu
X-WR-CALDESC:Events for Institute for Quantitative and Computational Biosciences
REFRESH-INTERVAL;VALUE=DURATION:PT1H
X-Robots-Tag:noindex
X-PUBLISHED-TTL:PT1H
BEGIN:VTIMEZONE
TZID:America/Los_Angeles
BEGIN:DAYLIGHT
TZOFFSETFROM:-0800
TZOFFSETTO:-0700
TZNAME:PDT
DTSTART:20250309T100000
END:DAYLIGHT
BEGIN:STANDARD
TZOFFSETFROM:-0700
TZOFFSETTO:-0800
TZNAME:PST
DTSTART:20251102T090000
END:STANDARD
BEGIN:DAYLIGHT
TZOFFSETFROM:-0800
TZOFFSETTO:-0700
TZNAME:PDT
DTSTART:20260308T100000
END:DAYLIGHT
BEGIN:STANDARD
TZOFFSETFROM:-0700
TZOFFSETTO:-0800
TZNAME:PST
DTSTART:20261101T090000
END:STANDARD
BEGIN:DAYLIGHT
TZOFFSETFROM:-0800
TZOFFSETTO:-0700
TZNAME:PDT
DTSTART:20270314T100000
END:DAYLIGHT
BEGIN:STANDARD
TZOFFSETFROM:-0700
TZOFFSETTO:-0800
TZNAME:PST
DTSTART:20271107T090000
END:STANDARD
END:VTIMEZONE
BEGIN:VEVENT
DTSTART;TZID=America/Los_Angeles:20260203T133000
DTEND;TZID=America/Los_Angeles:20260205T163000
DTSTAMP:20260421T083137
CREATED:20191212T191445Z
LAST-MODIFIED:20260310T171516Z
UID:10795-1770125400-1770309000@qcb.ucla.edu
SUMMARY:W16: Library Prep for NGS
DESCRIPTION:This workshop will cover the basis of Next-Gen Sequencing Library Preparation for Illumina Sequencers. Different Library Preparation Techniques (DNA-seq\, ChIP-seq\, RNA-seq\, Methyl-seq) are explained the first and second day in class. The third day\, Quality Control steps of the starting input material and final libraries are performed in the Lab (TapeStation). Purification from Primer Dimers (using AMPure beads) and Library Submission is also performed on the same day. The third day is optional\, sign-up is required.
URL:https://qcb.ucla.edu/event/w16-library-prep-for-ngs-2/
LOCATION:529 Boyer Hall\, 611 Charles E Young Dr E\,\, Los Angeles\, CA\, 90095\, United States
CATEGORIES:Workshops,Interactive Workshop
ATTACH;FMTTYPE=image/png:https://wp-misc.lifesci.ucla.edu/qcb/wp-content/uploads/sites/14/2020/02/1dNLbh0n_400x400.png
ORGANIZER;CN="QCB Collaboratory":MAILTO:collaboratory@ucla.edu
END:VEVENT
END:VCALENDAR