
BEGIN:VCALENDAR
VERSION:2.0
PRODID:-//Institute for Quantitative and Computational Biosciences - ECPv6.15.20//NONSGML v1.0//EN
CALSCALE:GREGORIAN
METHOD:PUBLISH
X-WR-CALNAME:Institute for Quantitative and Computational Biosciences
X-ORIGINAL-URL:https://qcb.ucla.edu
X-WR-CALDESC:Events for Institute for Quantitative and Computational Biosciences
REFRESH-INTERVAL;VALUE=DURATION:PT1H
X-Robots-Tag:noindex
X-PUBLISHED-TTL:PT1H
BEGIN:VTIMEZONE
TZID:America/Los_Angeles
BEGIN:DAYLIGHT
TZOFFSETFROM:-0800
TZOFFSETTO:-0700
TZNAME:PDT
DTSTART:20250309T100000
END:DAYLIGHT
BEGIN:STANDARD
TZOFFSETFROM:-0700
TZOFFSETTO:-0800
TZNAME:PST
DTSTART:20251102T090000
END:STANDARD
BEGIN:DAYLIGHT
TZOFFSETFROM:-0800
TZOFFSETTO:-0700
TZNAME:PDT
DTSTART:20260308T100000
END:DAYLIGHT
BEGIN:STANDARD
TZOFFSETFROM:-0700
TZOFFSETTO:-0800
TZNAME:PST
DTSTART:20261101T090000
END:STANDARD
BEGIN:DAYLIGHT
TZOFFSETFROM:-0800
TZOFFSETTO:-0700
TZNAME:PDT
DTSTART:20270314T100000
END:DAYLIGHT
BEGIN:STANDARD
TZOFFSETFROM:-0700
TZOFFSETTO:-0800
TZNAME:PST
DTSTART:20271107T090000
END:STANDARD
END:VTIMEZONE
BEGIN:VEVENT
DTSTART;TZID=America/Los_Angeles:20260331T090000
DTEND;TZID=America/Los_Angeles:20260402T120000
DTSTAMP:20260421T050720
CREATED:20191212T190006Z
LAST-MODIFIED:20260310T164953Z
UID:10778-1774947600-1775131200@qcb.ucla.edu
SUMMARY:W9: Intro to Python
DESCRIPTION:This workshop will cover the basic concepts of Python programming. The course is supplemented with many hands-on exercises with emphasis given towards computational biology use cases.
URL:https://qcb.ucla.edu/event/w9-intro-to-python-2/
LOCATION:529 Boyer Hall\, 611 Charles E Young Dr E\,\, Los Angeles\, CA\, 90095\, United States
CATEGORIES:Workshops,Interactive Workshop
ATTACH;FMTTYPE=image/png:https://wp-misc.lifesci.ucla.edu/qcb/wp-content/uploads/sites/14/2020/02/1dNLbh0n_400x400.png
ORGANIZER;CN="QCB Collaboratory":MAILTO:collaboratory@ucla.edu
END:VEVENT
BEGIN:VEVENT
DTSTART;TZID=America/Los_Angeles:20260331T133000
DTEND;TZID=America/Los_Angeles:20260402T163000
DTSTAMP:20260421T050720
CREATED:20191212T185111Z
LAST-MODIFIED:20260310T164950Z
UID:10775-1774963800-1775147400@qcb.ucla.edu
SUMMARY:W1a: Intro to Unix & the Hoffman2 Cluster
DESCRIPTION:Unix is a command-line-based platform that is a highly powerful and flexible tool for data management and analysis. First\, this workshop introduces the basic concepts of UNIX operating system and shell scripting. We will explore essential hands-on skills to confidently use the command line interface on either a local (laptop) or a remote (hoffman2 cluster) computer running the Unix system. Next\, this workshop covers how to navigate around the Unix file system from the command line and use a number of basic\, common Unix commands. The course is supplemented with many hands-on examples. No prior knowledge of Unix or programming is required.
URL:https://qcb.ucla.edu/event/w1-intro-to-unix-command-line-2/
LOCATION:529 Boyer Hall\, 611 Charles E Young Dr E\,\, Los Angeles\, CA\, 90095\, United States
CATEGORIES:Workshops,Interactive Workshop
ATTACH;FMTTYPE=image/png:https://wp-misc.lifesci.ucla.edu/qcb/wp-content/uploads/sites/14/2020/02/1dNLbh0n_400x400.png
ORGANIZER;CN="QCB Collaboratory":MAILTO:collaboratory@ucla.edu
END:VEVENT
END:VCALENDAR