
BEGIN:VCALENDAR
VERSION:2.0
PRODID:-//Institute for Quantitative and Computational Biosciences - ECPv6.15.20//NONSGML v1.0//EN
CALSCALE:GREGORIAN
METHOD:PUBLISH
X-WR-CALNAME:Institute for Quantitative and Computational Biosciences
X-ORIGINAL-URL:https://qcb.ucla.edu
X-WR-CALDESC:Events for Institute for Quantitative and Computational Biosciences
REFRESH-INTERVAL;VALUE=DURATION:PT1H
X-Robots-Tag:noindex
X-PUBLISHED-TTL:PT1H
BEGIN:VTIMEZONE
TZID:America/Los_Angeles
BEGIN:DAYLIGHT
TZOFFSETFROM:-0800
TZOFFSETTO:-0700
TZNAME:PDT
DTSTART:20250309T100000
END:DAYLIGHT
BEGIN:STANDARD
TZOFFSETFROM:-0700
TZOFFSETTO:-0800
TZNAME:PST
DTSTART:20251102T090000
END:STANDARD
BEGIN:DAYLIGHT
TZOFFSETFROM:-0800
TZOFFSETTO:-0700
TZNAME:PDT
DTSTART:20260308T100000
END:DAYLIGHT
BEGIN:STANDARD
TZOFFSETFROM:-0700
TZOFFSETTO:-0800
TZNAME:PST
DTSTART:20261101T090000
END:STANDARD
BEGIN:DAYLIGHT
TZOFFSETFROM:-0800
TZOFFSETTO:-0700
TZNAME:PDT
DTSTART:20270314T100000
END:DAYLIGHT
BEGIN:STANDARD
TZOFFSETFROM:-0700
TZOFFSETTO:-0800
TZNAME:PST
DTSTART:20271107T090000
END:STANDARD
END:VTIMEZONE
BEGIN:VEVENT
DTSTART;TZID=America/Los_Angeles:20260414T090000
DTEND;TZID=America/Los_Angeles:20260416T120000
DTSTAMP:20260421T050650
CREATED:20191212T192024Z
LAST-MODIFIED:20260310T171507Z
UID:10798-1776157200-1776340800@qcb.ucla.edu
SUMMARY:W3: Intro to R and Data Visualization
DESCRIPTION:R (www.r-project.org) is a free software environment for statistical computing and graphics. First\, this workshop introduces basic concepts\, syntax\, and usage in R programming\, statistical analysis\, and visualization techniques. We will conduct hands-on tutorials throughout the session\, giving attendees a chance to see R in action. This course is a pre-requisite for several other Collaboratory workshops. \nThis workshop is geared towards researchers who have little or no experience with R who want to get started with importing data into R and visualize it. This workshop will provide resources for data wrangling\, visualization and cover principles and best-practices for robust and reproducible data visualization. If you are interested in any particular R/Data Visualization tool\, please contact the instructor in advance and effort will be made to cover topics of community interest.
URL:https://qcb.ucla.edu/event/w3-intro-to-r-2/
LOCATION:529 Boyer Hall\, 611 Charles E Young Dr E\,\, Los Angeles\, CA\, 90095\, United States
CATEGORIES:Workshops,Interactive Workshop
ATTACH;FMTTYPE=image/png:https://wp-misc.lifesci.ucla.edu/qcb/wp-content/uploads/sites/14/2020/02/1dNLbh0n_400x400.png
ORGANIZER;CN="QCB Collaboratory":MAILTO:collaboratory@ucla.edu
END:VEVENT
END:VCALENDAR