
BEGIN:VCALENDAR
VERSION:2.0
PRODID:-//Institute for Quantitative and Computational Biosciences - ECPv6.15.20//NONSGML v1.0//EN
CALSCALE:GREGORIAN
METHOD:PUBLISH
X-ORIGINAL-URL:https://qcb.ucla.edu
X-WR-CALDESC:Events for Institute for Quantitative and Computational Biosciences
REFRESH-INTERVAL;VALUE=DURATION:PT1H
X-Robots-Tag:noindex
X-PUBLISHED-TTL:PT1H
BEGIN:VTIMEZONE
TZID:America/Los_Angeles
BEGIN:DAYLIGHT
TZOFFSETFROM:-0800
TZOFFSETTO:-0700
TZNAME:PDT
DTSTART:20250309T100000
END:DAYLIGHT
BEGIN:STANDARD
TZOFFSETFROM:-0700
TZOFFSETTO:-0800
TZNAME:PST
DTSTART:20251102T090000
END:STANDARD
BEGIN:DAYLIGHT
TZOFFSETFROM:-0800
TZOFFSETTO:-0700
TZNAME:PDT
DTSTART:20260308T100000
END:DAYLIGHT
BEGIN:STANDARD
TZOFFSETFROM:-0700
TZOFFSETTO:-0800
TZNAME:PST
DTSTART:20261101T090000
END:STANDARD
BEGIN:DAYLIGHT
TZOFFSETFROM:-0800
TZOFFSETTO:-0700
TZNAME:PDT
DTSTART:20270314T100000
END:DAYLIGHT
BEGIN:STANDARD
TZOFFSETFROM:-0700
TZOFFSETTO:-0800
TZNAME:PST
DTSTART:20271107T090000
END:STANDARD
END:VTIMEZONE
BEGIN:VEVENT
DTSTART;TZID=America/Los_Angeles:20260512T090000
DTEND;TZID=America/Los_Angeles:20260514T120000
DTSTAMP:20260421T063645
CREATED:20191212T195402Z
LAST-MODIFIED:20260310T173516Z
UID:10831-1778576400-1778760000@qcb.ucla.edu
SUMMARY:W5a: RNA-seq I Analysis
DESCRIPTION:RNA-seq I aims to provide an introduction and the basics tools to process raw RNA-seq data on a cluster machine (Hoffman2). The workshop can serve also as a starting point to develop a gene expression project. This workshop is divided in three days that will cover major steps of processing RNA-seq. \nTo facilitate learning\, the workshop will be centered on hands-on tutorial that will guide students in processing the data from raw reads through read counts using a real case study based approach appropriate for Illumina read data.
URL:https://qcb.ucla.edu/event/w5a-rna-seq-i-analysis-2/
LOCATION:529 Boyer Hall\, 611 Charles E Young Dr E\,\, Los Angeles\, CA\, 90095\, United States
CATEGORIES:Workshops,Interactive Workshop
ATTACH;FMTTYPE=image/png:https://wp-misc.lifesci.ucla.edu/qcb/wp-content/uploads/sites/14/2020/02/1dNLbh0n_400x400.png
ORGANIZER;CN="QCB Collaboratory":MAILTO:collaboratory@ucla.edu
END:VEVENT
BEGIN:VEVENT
DTSTART;TZID=America/Los_Angeles:20260512T133000
DTEND;TZID=America/Los_Angeles:20260514T163000
DTSTAMP:20260421T063645
CREATED:20250416T191959Z
LAST-MODIFIED:20260310T173723Z
UID:27913-1778592600-1778776200@qcb.ucla.edu
SUMMARY:W1b: Advanced Usage of Hoffman2 Cluster
DESCRIPTION:
URL:https://qcb.ucla.edu/event/w1b-advanced-usage/
LOCATION:529 Boyer Hall\, 611 Charles E Young Dr E\,\, Los Angeles\, CA\, 90095\, United States
CATEGORIES:Workshops,Interactive Workshop
ATTACH;FMTTYPE=image/png:https://wp-misc.lifesci.ucla.edu/qcb/wp-content/uploads/sites/14/2020/02/1dNLbh0n_400x400.png
ORGANIZER;CN="QCB Collaboratory":MAILTO:collaboratory@ucla.edu
END:VEVENT
END:VCALENDAR